BEGIN:VCALENDAR
VERSION:2.0
PRODID:-//Australian Lace Guild - ECPv6.15.20//NONSGML v1.0//EN
CALSCALE:GREGORIAN
METHOD:PUBLISH
X-ORIGINAL-URL:https://australianlaceguild.com.au
X-WR-CALDESC:Events for Australian Lace Guild
REFRESH-INTERVAL;VALUE=DURATION:PT1H
X-Robots-Tag:noindex
X-PUBLISHED-TTL:PT1H
BEGIN:VTIMEZONE
TZID:Australia/Perth
BEGIN:STANDARD
TZOFFSETFROM:+0800
TZOFFSETTO:+0800
TZNAME:AWST
DTSTART:20250101T000000
END:STANDARD
END:VTIMEZONE
BEGIN:VEVENT
DTSTART;VALUE=DATE:20260920
DTEND;VALUE=DATE:20260927
DTSTAMP:20260420T072717
CREATED:20260419T111444Z
LAST-MODIFIED:20260419T122250Z
UID:1717-1789862400-1790467199@australianlaceguild.com.au
SUMMARY:LaceWest - Australian Lace Guild Conference 2026
DESCRIPTION:You are invited to join us at Lace West 2026 – The Australian Lace Guild Conference and AGM \n \nJoin us for a week of workshops\, lectures\, exhibitions\, a midweek tour\, conference dinner\, and the AGM\, bringing together lacemakers from across Australia and beyond. \nA wide range of workshops will be offered\, including Russian\, Torchon\, Point Ground\, contemporary\, and needle lace techniques. We are also pleased to welcome guest tutor Rosita d’Ercoli\, an Italian lacemaker specialising in Milanese and Three Pair Fiandra laces. \n📍 Midland Junction Arts Centre\, Perth\, Western Australia🗓️ 20–26 September 2026 \n👉 Full details\, including the program and registration form\, are available on the Conference page. \nMany thanks to Bridget Fairchild for the Lace West 2026 Quokka logo
URL:https://australianlaceguild.com.au/event/lacewest-australian-lace-guild-conference-2026/
LOCATION:Midland Junction Arts Centre\, 276 Great Eastern Highway\, Midland\, Western Australia\, 6056\, Australia
ORGANIZER;CN="Australian Lace Guild":MAILTO:conference@australianlaceguild.com.au
END:VEVENT
END:VCALENDAR